BEGIN:VCALENDAR
VERSION:2.0
PRODID:-//ChamberMaster//Event Calendar 2.0//EN
METHOD:PUBLISH
X-PUBLISHED-TTL:P3D
REFRESH-INTERVAL:P3D
CALSCALE:GREGORIAN
BEGIN:VEVENT
DTSTART:20250515T000000Z
DTEND:20250515T030000Z
X-MICROSOFT-CDO-ALLDAYEVENT:FALSE
SUMMARY:2025 Community Foundation For a Better Bigfork Annual Dinner
DESCRIPTION:You are cordially invited to the CFBB's 56th Annual Meeting at the Flathead Lake Lodge. \n\n\n\nPlease bring your friends and interested guests who might be prospective partners of the Community Foundation for a Better Bigfork. \n\n\n\nDon't miss the Silent Auction and 2025 Big Hat Award winner! \n\n\n\nDinner will be your choice of:\n\nBeef Tenderloin with potatoes\, broccolini\, Meyer lemon\, blue cream cheese\n\n-or-\n\nGrilled Chicken Breast with rice grits\, braised fennel and tomato\, sherry jus lie\n\nBoth served with caprese salad\, fresh bread\, and puffed pastry with fruit compote.
X-ALT-DESC;FMTTYPE=text/html:You are cordially invited to the CFBB&#39\;s 56th Annual Meeting at the Flathead Lake Lodge.&nbsp\;<br />\n<br />\nPlease bring your friends and interested guests who might be prospective partners of the Community Foundation for a Better Bigfork.&nbsp\;<br />\n<br />\nDon&#39\;t miss the Silent Auction and 2025 Big Hat Award winner!&nbsp\;<br />\n<br />\nDinner will be your choice of:<br />\nBeef Tenderloin with potatoes\, broccolini\, Meyer lemon\, blue cream cheese<br />\n-or-<br />\nGrilled Chicken Breast with rice grits\, braised fennel and tomato\, sherry jus lie<br />\nBoth served with caprese salad\, fresh bread\, and puffed pastry with fruit compote.<br />\n<br />\n<br />\n&nbsp\;
LOCATION:
UID:e.3534.5336
SEQUENCE:3
DTSTAMP:20260424T033722Z
URL:http://bigfork.chambermaster.com/events/details/2025-community-foundation-for-a-better-bigfork-annual-dinner-5336
END:VEVENT

END:VCALENDAR
