BEGIN:VCALENDAR
VERSION:2.0
PRODID:-//ChamberMaster//Event Calendar 2.0//EN
METHOD:PUBLISH
X-PUBLISHED-TTL:P3D
REFRESH-INTERVAL:P3D
CALSCALE:GREGORIAN
BEGIN:VEVENT
DTSTART:20250427T200000Z
DTEND:20250427T230000Z
X-MICROSOFT-CDO-ALLDAYEVENT:FALSE
SUMMARY:2025 Taste of Bigfork
DESCRIPTION:Join us on April 27th for this 31st Annual Taste of Bigfork\, from 2pm - 5pm\, for wine\, music and wonderful food from Bigfork restaurants.\n\nWalk from venue to venue in downtown Bigfork for this fun and filling.  This event does sell out so get your tickets now!\n\nAt 5:00 after you're full and happy\, the world's greatest raffle will take place at the Garden Bar & Grill. Many great items are donated by Bigfork Area merchants for you to win.\n\n\n\nSponsorships are available now.\n\nCall 406-837-5888 for more information
X-ALT-DESC;FMTTYPE=text/html:<p>Join us on April 27th for this 31st Annual Taste of Bigfork\, from 2pm - 5pm\, for wine\, music and wonderful food from Bigfork restaurants.</p>\n\n<p>Walk from venue to venue in downtown Bigfork for this fun and filling.&nbsp\; This event does sell out so get your tickets now!</p>\n\n<p>At 5:00 after you&#39\;re full and happy\, the world&#39\;s greatest raffle will take place at the Garden Bar &amp\; Grill. Many great items are donated by Bigfork Area merchants for you to win.<br />\n<br />\nSponsorships are available now.</p>\n\n<p>Call 406-837-5888 for more information</p>\n
LOCATION:
UID:e.3534.5334
SEQUENCE:3
DTSTAMP:20260421T074458Z
URL:http://bigfork.chambermaster.com/events/details/2025-taste-of-bigfork-5334
END:VEVENT

END:VCALENDAR
